BEGIN:VCALENDAR
VERSION:2.0
PRODID:-//pretix//pretix.eu//
BEGIN:VTIMEZONE
TZID:Europe/Berlin
BEGIN:STANDARD
DTSTART:20001029T040000
RRULE:FREQ=YEARLY;BYDAY=-1SU;BYMONTH=10
TZNAME:CET
TZOFFSETFROM:+0200
TZOFFSETTO:+0100
END:STANDARD
BEGIN:DAYLIGHT
DTSTART:20000326T030000
RRULE:FREQ=YEARLY;BYDAY=-1SU;BYMONTH=3
TZNAME:CEST
TZOFFSETFROM:+0100
TZOFFSETTO:+0200
END:DAYLIGHT
END:VTIMEZONE
BEGIN:VEVENT
UID:pretix-Festeschmiederey-gcmuc24-0@shop.festeschmiederey.de
DTSTART;TZID=Europe/Berlin:20241025T180000
DTEND;TZID=Europe/Berlin:20241027T190000
DESCRIPTION:Tickets: https://shop.festeschmiederey.de/gcmuc24/\nVeranstalte
 r: Die Festeschmiederey - Maximilian Krüger
DTSTAMP:20260424T133611Z
LOCATION:SAE Institute München\, Zielstattstraße 30\,\, 81379 München
SUMMARY:GameCamp München 2024
END:VEVENT
END:VCALENDAR
